BEGIN:VCALENDAR
VERSION:2.0
PRODID:-//Freunde und F&ouml;rderer der Kita Bienenkorb e.V. - ECPv6.15.20//NONSGML v1.0//EN
CALSCALE:GREGORIAN
METHOD:PUBLISH
X-WR-CALNAME:Freunde und F&ouml;rderer der Kita Bienenkorb e.V.
X-ORIGINAL-URL:https://kibis-freunde.de
X-WR-CALDESC:Veranstaltungen für Freunde und F&ouml;rderer der Kita Bienenkorb e.V.
REFRESH-INTERVAL;VALUE=DURATION:PT1H
X-Robots-Tag:noindex
X-PUBLISHED-TTL:PT1H
BEGIN:VTIMEZONE
TZID:UTC
BEGIN:STANDARD
TZOFFSETFROM:+0000
TZOFFSETTO:+0000
TZNAME:UTC
DTSTART:20250101T000000
END:STANDARD
END:VTIMEZONE
BEGIN:VEVENT
DTSTART;TZID=UTC:20260608T170000
DTEND;TZID=UTC:20260608T190000
DTSTAMP:20260419T174602
CREATED:20240809T085604Z
LAST-MODIFIED:20251104T141300Z
UID:9430-1780938000-1780945200@kibis-freunde.de
SUMMARY:Elternabend - Neue Eltern
DESCRIPTION:
URL:https://kibis-freunde.de/event/elternabend-neue-eltern/
LOCATION:Kita Bienenkorb\, Oldenburger Str. 235b\, Wardenburg\, 26203\, Germany
CATEGORIES:Krippe Bienenkorb
ATTACH;FMTTYPE=image/png:https://kibis-freunde.de/wp-content/uploads/2024/07/cropped-cropped-Logo_freigestellt.png
ORGANIZER;CN="Kita Bienenkorb":MAILTO:kita-bienenkorb.wardenburg@kirche-oldenburg.de
END:VEVENT
END:VCALENDAR