BEGIN:VCALENDAR
VERSION:2.0
PRODID:-//Freunde und F&ouml;rderer der Kita Bienenkorb e.V. - ECPv6.15.20//NONSGML v1.0//EN
CALSCALE:GREGORIAN
METHOD:PUBLISH
X-ORIGINAL-URL:https://kibis-freunde.de
X-WR-CALDESC:Veranstaltungen für Freunde und F&ouml;rderer der Kita Bienenkorb e.V.
REFRESH-INTERVAL;VALUE=DURATION:PT1H
X-Robots-Tag:noindex
X-PUBLISHED-TTL:PT1H
BEGIN:VTIMEZONE
TZID:UTC
BEGIN:STANDARD
TZOFFSETFROM:+0000
TZOFFSETTO:+0000
TZNAME:UTC
DTSTART:20230101T000000
END:STANDARD
END:VTIMEZONE
BEGIN:VTIMEZONE
TZID:Europe/Helsinki
BEGIN:DAYLIGHT
TZOFFSETFROM:+0200
TZOFFSETTO:+0300
TZNAME:EEST
DTSTART:20230326T010000
END:DAYLIGHT
BEGIN:STANDARD
TZOFFSETFROM:+0300
TZOFFSETTO:+0200
TZNAME:EET
DTSTART:20231029T010000
END:STANDARD
BEGIN:DAYLIGHT
TZOFFSETFROM:+0200
TZOFFSETTO:+0300
TZNAME:EEST
DTSTART:20240331T010000
END:DAYLIGHT
BEGIN:STANDARD
TZOFFSETFROM:+0300
TZOFFSETTO:+0200
TZNAME:EET
DTSTART:20241027T010000
END:STANDARD
BEGIN:DAYLIGHT
TZOFFSETFROM:+0200
TZOFFSETTO:+0300
TZNAME:EEST
DTSTART:20250330T010000
END:DAYLIGHT
BEGIN:STANDARD
TZOFFSETFROM:+0300
TZOFFSETTO:+0200
TZNAME:EET
DTSTART:20251026T010000
END:STANDARD
END:VTIMEZONE
BEGIN:VEVENT
DTSTART;VALUE=DATE:20260407
DTEND;VALUE=DATE:20260408
DTSTAMP:20260419T161608
CREATED:20240809T084340Z
LAST-MODIFIED:20251104T140642Z
UID:9417-1775520000-1775606399@kibis-freunde.de
SUMMARY:Gruppeninternes Osterfrühstück
DESCRIPTION:
URL:https://kibis-freunde.de/event/gruppeninternes-osterfruehstueck/
LOCATION:Kita Bienenkorb\, Oldenburger Str. 235b\, Wardenburg\, 26203\, Germany
CATEGORIES:Kindergarten Bienenkorb,Krippe Bienenkorb
ATTACH;FMTTYPE=image/png:https://kibis-freunde.de/wp-content/uploads/2024/08/Design-ohne-Titel-14-e1723192977177.png
ORGANIZER;CN="Kita Bienenkorb":MAILTO:kita-bienenkorb.wardenburg@kirche-oldenburg.de
END:VEVENT
BEGIN:VEVENT
DTSTART;VALUE=DATE:20260403
DTEND;VALUE=DATE:20260407
DTSTAMP:20260419T161608
CREATED:20251104T140603Z
LAST-MODIFIED:20251104T140603Z
UID:9531-1775174400-1775519999@kibis-freunde.de
SUMMARY:Karfreitag & Ostermontag - Kita geschlossen
DESCRIPTION:
URL:https://kibis-freunde.de/event/karfreitag-ostermontag-kita-geschlossen/
END:VEVENT
BEGIN:VEVENT
DTSTART;VALUE=DATE:20260330
DTEND;VALUE=DATE:20260403
DTSTAMP:20260419T161608
CREATED:20240809T081657Z
LAST-MODIFIED:20251104T140451Z
UID:9415-1774828800-1775174399@kibis-freunde.de
SUMMARY:Kita Bienenkorb geschlossen - Team Tage
DESCRIPTION:
URL:https://kibis-freunde.de/event/kita-bienenkorb-geschlossen-team-tage/
LOCATION:Kita Bienenkorb\, Oldenburger Str. 235b\, Wardenburg\, 26203\, Germany
CATEGORIES:Kindergarten Bienenkorb,Krippe Bienenkorb
ATTACH;FMTTYPE=image/png:https://kibis-freunde.de/wp-content/uploads/2020/08/Design-ohne-Titel-8.png
ORGANIZER;CN="Kita Bienenkorb":MAILTO:kita-bienenkorb.wardenburg@kirche-oldenburg.de
END:VEVENT
BEGIN:VEVENT
DTSTART;VALUE=DATE:20260213
DTEND;VALUE=DATE:20260214
DTSTAMP:20260419T161608
CREATED:20240809T081414Z
LAST-MODIFIED:20251104T140409Z
UID:9412-1770940800-1771027199@kibis-freunde.de
SUMMARY:Fasching
DESCRIPTION:Wir feiern Fasching in der Kita Bienenkorb.
URL:https://kibis-freunde.de/event/fasching/
LOCATION:Kita Bienenkorb\, Oldenburger Str. 235b\, Wardenburg\, 26203\, Germany
CATEGORIES:Kindergarten Bienenkorb,Krippe Bienenkorb
ATTACH;FMTTYPE=image/png:https://kibis-freunde.de/wp-content/uploads/2024/08/Design-ohne-Titel-13-e1723191068512.png
ORGANIZER;CN="Kita Bienenkorb":MAILTO:kita-bienenkorb.wardenburg@kirche-oldenburg.de
END:VEVENT
BEGIN:VEVENT
DTSTART;VALUE=DATE:20251222
DTEND;VALUE=DATE:20260105
DTSTAMP:20260419T161608
CREATED:20240809T080337Z
LAST-MODIFIED:20251113T122354Z
UID:9406-1766361600-1767571199@kibis-freunde.de
SUMMARY:Schließzeit Winter - Kita Bienenkorb geschlossen
DESCRIPTION:
URL:https://kibis-freunde.de/event/winterschliesszeit-kita-bienenkorb-geschlossen/
LOCATION:Kita Bienenkorb\, Oldenburger Str. 235b\, Wardenburg\, 26203\, Germany
CATEGORIES:Kindergarten Bienenkorb,Krippe Bienenkorb
ATTACH;FMTTYPE=image/png:https://kibis-freunde.de/wp-content/uploads/2020/08/Design-ohne-Titel-8.png
ORGANIZER;CN="Kita Bienenkorb":MAILTO:kita-bienenkorb.wardenburg@kirche-oldenburg.de
END:VEVENT
BEGIN:VEVENT
DTSTART;TZID=UTC:20251212T153000
DTEND;TZID=UTC:20251212T170000
DTSTAMP:20260419T161608
CREATED:20240809T075800Z
LAST-MODIFIED:20251104T140148Z
UID:9403-1765553400-1765558800@kibis-freunde.de
SUMMARY:Advents-Café
DESCRIPTION:
URL:https://kibis-freunde.de/event/advents-cafe/
LOCATION:Kita Bienenkorb\, Oldenburger Str. 235b\, Wardenburg\, 26203\, Germany
CATEGORIES:Kindergarten Bienenkorb,Krippe Bienenkorb
ATTACH;FMTTYPE=image/png:https://kibis-freunde.de/wp-content/uploads/2024/08/Design-ohne-Titel-12-e1723190218179.png
ORGANIZER;CN="Kita Bienenkorb":MAILTO:kita-bienenkorb.wardenburg@kirche-oldenburg.de
END:VEVENT
BEGIN:VEVENT
DTSTART;TZID=UTC:20251110T164500
DTEND;TZID=UTC:20251110T183000
DTSTAMP:20260419T161608
CREATED:20240809T074916Z
LAST-MODIFIED:20251104T140050Z
UID:9400-1762793100-1762799400@kibis-freunde.de
SUMMARY:Sankt Martin - Laterne laufen
DESCRIPTION:Wir gehen gemeinsam Laterne laufen.
URL:https://kibis-freunde.de/event/sankt-martin-laterne-laufen/
LOCATION:Kita Bienenkorb\, Oldenburger Str. 235b\, Wardenburg\, 26203\, Germany
CATEGORIES:Kindergarten Bienenkorb,Krippe Bienenkorb
ATTACH;FMTTYPE=image/png:https://kibis-freunde.de/wp-content/uploads/2024/08/Design-ohne-Titel-11-e1723189737743.png
ORGANIZER;CN="Kita Bienenkorb":MAILTO:kita-bienenkorb.wardenburg@kirche-oldenburg.de
END:VEVENT
BEGIN:VEVENT
DTSTART;VALUE=DATE:20250525
DTEND;VALUE=DATE:20250527
DTSTAMP:20260419T161608
CREATED:20240809T084538Z
LAST-MODIFIED:20251104T141134Z
UID:9420-1748131200-1748303999@kibis-freunde.de
SUMMARY:Pfingstmontag & Brückentag - Kita Bienenkorb geschlossen
DESCRIPTION:
URL:https://kibis-freunde.de/event/brueckentag-kita-bienenkorb-geschlossen-2/
LOCATION:Kita Bienenkorb\, Oldenburger Str. 235b\, Wardenburg\, 26203\, Germany
CATEGORIES:Kindergarten Bienenkorb,Krippe Bienenkorb
ATTACH;FMTTYPE=image/png:https://kibis-freunde.de/wp-content/uploads/2020/08/Design-ohne-Titel-8.png
ORGANIZER;CN="Kita Bienenkorb":MAILTO:kita-bienenkorb.wardenburg@kirche-oldenburg.de
END:VEVENT
BEGIN:VEVENT
DTSTART;VALUE=DATE:20250514
DTEND;VALUE=DATE:20250516
DTSTAMP:20260419T161608
CREATED:20240809T085115Z
LAST-MODIFIED:20251104T141022Z
UID:9425-1747180800-1747353599@kibis-freunde.de
SUMMARY:Christi Himmelfahrt & Brückentag - Kita Bienenkorb geschlossen
DESCRIPTION:
URL:https://kibis-freunde.de/event/brueckentag-kita-bienenkorb-geschlossen-3/
LOCATION:Kita Bienenkorb\, Oldenburger Str. 235b\, Wardenburg\, 26203\, Germany
CATEGORIES:Kindergarten Bienenkorb,Krippe Bienenkorb
ATTACH;FMTTYPE=image/png:https://kibis-freunde.de/wp-content/uploads/2020/08/Design-ohne-Titel-8.png
ORGANIZER;CN="Kita Bienenkorb":MAILTO:kita-bienenkorb.wardenburg@kirche-oldenburg.de
END:VEVENT
BEGIN:VEVENT
DTSTART;VALUE=DATE:20241101
DTEND;VALUE=DATE:20241102
DTSTAMP:20260419T161608
CREATED:20240809T074031Z
LAST-MODIFIED:20240809T074031Z
UID:9398-1730419200-1730505599@kibis-freunde.de
SUMMARY:Brückentag - Kita Bienenkorb geschlossen
DESCRIPTION:
URL:https://kibis-freunde.de/event/brueckentag-kita-bienenkorb-geschlossen/
LOCATION:Kita Bienenkorb\, Oldenburger Str. 235b\, Wardenburg\, 26203\, Germany
CATEGORIES:Kindergarten Bienenkorb,Krippe Bienenkorb
ATTACH;FMTTYPE=image/png:https://kibis-freunde.de/wp-content/uploads/2020/08/Design-ohne-Titel-8.png
ORGANIZER;CN="Kita Bienenkorb":MAILTO:kita-bienenkorb.wardenburg@kirche-oldenburg.de
END:VEVENT
BEGIN:VEVENT
DTSTART;TZID=UTC:20241021T153000
DTEND;TZID=UTC:20241021T170000
DTSTAMP:20260419T161608
CREATED:20240809T073412Z
LAST-MODIFIED:20240809T073412Z
UID:9394-1729524600-1729530000@kibis-freunde.de
SUMMARY:Bastelnachmittag: Laterne
DESCRIPTION:Krippe und Kindergarten: Bastelnachmittag Laternen
URL:https://kibis-freunde.de/event/bastelnachmittag-laterne/
LOCATION:Kita Bienenkorb\, Oldenburger Str. 235b\, Wardenburg\, 26203\, Germany
CATEGORIES:Kindergarten Bienenkorb,Krippe Bienenkorb
ATTACH;FMTTYPE=image/png:https://kibis-freunde.de/wp-content/uploads/2024/08/Design-ohne-Titel-9-e1723188829942.png
ORGANIZER;CN="Kita Bienenkorb":MAILTO:kita-bienenkorb.wardenburg@kirche-oldenburg.de
END:VEVENT
BEGIN:VEVENT
DTSTART;TZID=Europe/Helsinki:20241007T170000
DTEND;TZID=Europe/Helsinki:20241007T190000
DTSTAMP:20260419T161608
CREATED:20240809T072119Z
LAST-MODIFIED:20240809T072300Z
UID:9382-1728320400-1728327600@kibis-freunde.de
SUMMARY:Elternvertretertreffen
DESCRIPTION:Elternvertretertreffen – inkl. Eltern-Beiratswahl\, ein Folgetermin wird am Tag vereinbart
URL:https://kibis-freunde.de/event/elternvertretertreffen/
LOCATION:Kita Bienenkorb\, Oldenburger Str. 235b\, Wardenburg\, 26203\, Germany
CATEGORIES:Kindergarten Bienenkorb,Krippe Bienenkorb
ATTACH;FMTTYPE=image/png:https://kibis-freunde.de/wp-content/uploads/2024/07/cropped-cropped-Logo_freigestellt.png
ORGANIZER;CN="Kita Bienenkorb":MAILTO:kita-bienenkorb.wardenburg@kirche-oldenburg.de
END:VEVENT
BEGIN:VEVENT
DTSTART;VALUE=DATE:20241004
DTEND;VALUE=DATE:20241005
DTSTAMP:20260419T161608
CREATED:20200811T095804Z
LAST-MODIFIED:20240809T071545Z
UID:7233-1728000000-1728086399@kibis-freunde.de
SUMMARY:Brückentag - Kita Bienenkorb geschlossen
DESCRIPTION:
URL:https://kibis-freunde.de/event/trampolines-6/
LOCATION:Kita Bienenkorb\, Oldenburger Str. 235b\, Wardenburg\, 26203\, Germany
CATEGORIES:Kindergarten Bienenkorb,Krippe Bienenkorb
ATTACH;FMTTYPE=image/png:https://kibis-freunde.de/wp-content/uploads/2020/08/Design-ohne-Titel-8.png
ORGANIZER;CN="Kita Bienenkorb":MAILTO:kita-bienenkorb.wardenburg@kirche-oldenburg.de
END:VEVENT
BEGIN:VEVENT
DTSTART;VALUE=DATE:20241002
DTEND;VALUE=DATE:20241003
DTSTAMP:20260419T161608
CREATED:20200811T095650Z
LAST-MODIFIED:20240809T073706Z
UID:7232-1727827200-1727913599@kibis-freunde.de
SUMMARY:Erntedank - Kooperation "Speisekammer"
DESCRIPTION:Wir feiern Erntedank in Kooperation mit der Speisekammer.(Abholen oder Wegbringen)
URL:https://kibis-freunde.de/event/halloween-party-8/
LOCATION:Kita Bienenkorb\, Oldenburger Str. 235b\, Wardenburg\, 26203\, Germany
CATEGORIES:Kindergarten Bienenkorb,Krippe Bienenkorb
ATTACH;FMTTYPE=image/png:https://kibis-freunde.de/wp-content/uploads/2020/08/Design-ohne-Titel-10-e1723189001593.png
ORGANIZER;CN="Kita Bienenkorb":MAILTO:kita-bienenkorb.wardenburg@kirche-oldenburg.de
END:VEVENT
BEGIN:VEVENT
DTSTART;TZID=Europe/Helsinki:20240923T170000
DTEND;TZID=Europe/Helsinki:20240923T190000
DTSTAMP:20260419T161608
CREATED:20200811T095743Z
LAST-MODIFIED:20240809T071345Z
UID:7231-1727110800-1727118000@kibis-freunde.de
SUMMARY:Erster Elternabend des Bienenkorbs
DESCRIPTION:Interner Elternabend pro Gruppe (d.h. Schmetterlinge\, Marienkäfer und Bienen) inkl. Elternvertreterwahl
URL:https://kibis-freunde.de/event/arts-crafts-5/
LOCATION:Kita Bienenkorb\, Oldenburger Str. 235b\, Wardenburg\, 26203\, Germany
CATEGORIES:Kindergarten Bienenkorb,Krippe Bienenkorb
ATTACH;FMTTYPE=image/png:https://kibis-freunde.de/wp-content/uploads/2024/07/cropped-cropped-Logo_freigestellt.png
ORGANIZER;CN="Kita Bienenkorb":MAILTO:kita-bienenkorb.wardenburg@kirche-oldenburg.de
END:VEVENT
END:VCALENDAR